BEGIN:VCALENDAR
VERSION:2.0
PRODID:-//Krisztus Király Római Katolikus Általános Iskola és Gimnázium - ECPv6.15.20//NONSGML v1.0//EN
CALSCALE:GREGORIAN
METHOD:PUBLISH
X-WR-CALNAME:Krisztus Király Római Katolikus Általános Iskola és Gimnázium
X-ORIGINAL-URL:https://kkdk.hu
X-WR-CALDESC:Események Krisztus Király Római Katolikus Általános Iskola és Gimnázium
REFRESH-INTERVAL;VALUE=DURATION:PT1H
X-Robots-Tag:noindex
X-PUBLISHED-TTL:PT1H
BEGIN:VTIMEZONE
TZID:UTC
BEGIN:STANDARD
TZOFFSETFROM:+0000
TZOFFSETTO:+0000
TZNAME:UTC
DTSTART:20250101T000000
END:STANDARD
END:VTIMEZONE
BEGIN:VEVENT
DTSTART;VALUE=DATE:20260518
DTEND;VALUE=DATE:20260530
DTSTAMP:20260421T194832
CREATED:20260421T080657Z
LAST-MODIFIED:20260421T080657Z
UID:1721-1779062400-1780099199@kkdk.hu
SUMMARY:Tükörestek
DESCRIPTION:
URL:https://kkdk.hu/esemeny/tukorestek/
CATEGORIES:Általános iskola
END:VEVENT
END:VCALENDAR