BEGIN:VCALENDAR
VERSION:2.0
PRODID:-//Krisztus Király Római Katolikus Általános Iskola és Gimnázium - ECPv6.15.20//NONSGML v1.0//EN
CALSCALE:GREGORIAN
METHOD:PUBLISH
X-ORIGINAL-URL:https://kkdk.hu
X-WR-CALDESC:Események Krisztus Király Római Katolikus Általános Iskola és Gimnázium
REFRESH-INTERVAL;VALUE=DURATION:PT1H
X-Robots-Tag:noindex
X-PUBLISHED-TTL:PT1H
BEGIN:VTIMEZONE
TZID:UTC
BEGIN:STANDARD
TZOFFSETFROM:+0000
TZOFFSETTO:+0000
TZNAME:UTC
DTSTART:20250101T000000
END:STANDARD
END:VTIMEZONE
BEGIN:VEVENT
DTSTART;VALUE=DATE:20260424
DTEND;VALUE=DATE:20260425
DTSTAMP:20260422T021827
CREATED:20260421T183827Z
LAST-MODIFIED:20260421T184829Z
UID:1726-1776988800-1777075199@kkdk.hu
SUMMARY:Népviselet napja
DESCRIPTION:Április 24. a népviselet napja! Ez a nap különleges alkalom arra\, hogy méltó módon ünnepeljük a határokon is átívelő közös értékeinket\, a népviseletek sokszínűségét és azok szépségét. A magyar népviseletek hosszú múltra tekintenek vissza\, és fontos részét képezik a magyar kulturális örökségnek.
URL:https://kkdk.hu/esemeny/nepviselet-napja-2026/
LOCATION:Krisztus Király Római Katolikus Általános Iskola és Gimnázium\, Táncsics Mihály utca 4-6.\, Dunakeszi\, Pest\, 1220\, Hungary
CATEGORIES:Általános iskola
END:VEVENT
END:VCALENDAR