BEGIN:VCALENDAR
VERSION:2.0
PRODID:-//Krisztus Király Római Katolikus Általános Iskola és Gimnázium - ECPv6.15.20//NONSGML v1.0//EN
CALSCALE:GREGORIAN
METHOD:PUBLISH
X-WR-CALNAME:Krisztus Király Római Katolikus Általános Iskola és Gimnázium
X-ORIGINAL-URL:https://kkdk.hu
X-WR-CALDESC:Események Krisztus Király Római Katolikus Általános Iskola és Gimnázium
REFRESH-INTERVAL;VALUE=DURATION:PT1H
X-Robots-Tag:noindex
X-PUBLISHED-TTL:PT1H
BEGIN:VTIMEZONE
TZID:UTC
BEGIN:STANDARD
TZOFFSETFROM:+0000
TZOFFSETTO:+0000
TZNAME:UTC
DTSTART:20250101T000000
END:STANDARD
END:VTIMEZONE
BEGIN:VEVENT
DTSTART;VALUE=DATE:20260508
DTEND;VALUE=DATE:20260512
DTSTAMP:20260421T165204
CREATED:20260421T080113Z
LAST-MODIFIED:20260421T080503Z
UID:1717-1778198400-1778543999@kkdk.hu
SUMMARY:Országos kompetenciamérés – 5. évfolyam
DESCRIPTION:
URL:https://kkdk.hu/esemeny/orszagos-kompetenciameres-5-evfolyam/
LOCATION:Krisztus Király Római Katolikus Általános Iskola és Gimnázium\, Táncsics Mihály utca 4-6.\, Dunakeszi\, Pest\, 1220\, Hungary
CATEGORIES:Általános iskola
END:VEVENT
BEGIN:VEVENT
DTSTART;VALUE=DATE:20260512
DTEND;VALUE=DATE:20260515
DTSTAMP:20260421T165205
CREATED:20260421T080245Z
LAST-MODIFIED:20260421T080245Z
UID:1719-1778544000-1778803199@kkdk.hu
SUMMARY:Országos kompetenciamérés – 8. évfolyam
DESCRIPTION:
URL:https://kkdk.hu/esemeny/orszagos-kompetenciameres-8-evfolyam/
LOCATION:Krisztus Király Római Katolikus Általános Iskola és Gimnázium\, Táncsics Mihály utca 4-6.\, Dunakeszi\, Pest\, 1220\, Hungary
CATEGORIES:Általános iskola
END:VEVENT
END:VCALENDAR